BEGIN:VCALENDAR
VERSION:2.0
PRODID:-//Advent Óbudán 2025 | Obuda.hu - ECPv6.15.12.2//NONSGML v1.0//EN
CALSCALE:GREGORIAN
METHOD:PUBLISH
X-WR-CALNAME:Advent Óbudán 2025 | Obuda.hu
X-ORIGINAL-URL:https://www.adventobudan.hu
X-WR-CALDESC:Események Advent Óbudán 2025 | Obuda.hu
REFRESH-INTERVAL;VALUE=DURATION:PT1H
X-Robots-Tag:noindex
X-PUBLISHED-TTL:PT1H
BEGIN:VTIMEZONE
TZID:Europe/Budapest
BEGIN:DAYLIGHT
TZOFFSETFROM:+0100
TZOFFSETTO:+0200
TZNAME:CEST
DTSTART:20240331T010000
END:DAYLIGHT
BEGIN:STANDARD
TZOFFSETFROM:+0200
TZOFFSETTO:+0100
TZNAME:CET
DTSTART:20241027T010000
END:STANDARD
BEGIN:DAYLIGHT
TZOFFSETFROM:+0100
TZOFFSETTO:+0200
TZNAME:CEST
DTSTART:20250330T010000
END:DAYLIGHT
BEGIN:STANDARD
TZOFFSETFROM:+0200
TZOFFSETTO:+0100
TZNAME:CET
DTSTART:20251026T010000
END:STANDARD
BEGIN:DAYLIGHT
TZOFFSETFROM:+0100
TZOFFSETTO:+0200
TZNAME:CEST
DTSTART:20260329T010000
END:DAYLIGHT
BEGIN:STANDARD
TZOFFSETFROM:+0200
TZOFFSETTO:+0100
TZNAME:CET
DTSTART:20261025T010000
END:STANDARD
END:VTIMEZONE
BEGIN:VEVENT
DTSTART;TZID=Europe/Budapest:20251207T170000
DTEND;TZID=Europe/Budapest:20251207T170000
DTSTAMP:20260425T212450
CREATED:20251029T140628Z
LAST-MODIFIED:20251029T145451Z
UID:4647-1765126800-1765126800@www.adventobudan.hu
SUMMARY:Tűzzsonglőrök
DESCRIPTION:
URL:https://www.adventobudan.hu/esemeny/tuzzsonglorok-3/
LOCATION:Fő tér
CATEGORIES:Advent Óbudán 2025
ATTACH;FMTTYPE=image/png:https://www.adventobudan.hu/wp-content/uploads/2025/10/Advent2024_eventcover_tuzzsonglor.png
GEO:47.5416808;19.0450078
END:VEVENT
BEGIN:VEVENT
DTSTART;TZID=Europe/Budapest:20251207T160000
DTEND;TZID=Europe/Budapest:20251207T160000
DTSTAMP:20260425T212450
CREATED:20251029T141500Z
LAST-MODIFIED:20251202T141404Z
UID:4645-1765123200-1765123200@www.adventobudan.hu
SUMMARY:Karácsony James és Bérces Viktor
DESCRIPTION:Ikonikus dalok Karácsony János saját szerzeményeiből és LGT dalokból az ünnep fényeiben. Zongorán közreműködik dr. Bérces Viktor.
URL:https://www.adventobudan.hu/esemeny/karacsony-james-es-dr-berces-viktor/
LOCATION:Fő tér
CATEGORIES:Advent Óbudán 2025
ATTACH;FMTTYPE=image/png:https://www.adventobudan.hu/wp-content/uploads/2025/10/Advent2024_eventcover_Karacsony-James.png
GEO:47.5416808;19.0450078
END:VEVENT
BEGIN:VEVENT
DTSTART;TZID=Europe/Budapest:20251207T110000
DTEND;TZID=Europe/Budapest:20251207T110000
DTSTAMP:20260425T212450
CREATED:20251029T145604Z
LAST-MODIFIED:20251029T145604Z
UID:4641-1765105200-1765105200@www.adventobudan.hu
SUMMARY:Kámfor zenés bábszínház
DESCRIPTION:A nézők a Sárkány és az Ördög című népmesés marionett előadással ismerkedhetnek meg.  \nMesélő:\nHorváth Szervác Sándor \nZenészek:\nLengyel Levente és Kasó Máté (Gitár\, Zongora)
URL:https://www.adventobudan.hu/esemeny/kamfor-zenes-babszinhaz-2/
LOCATION:Fő tér
CATEGORIES:Advent Óbudán 2025
ATTACH;FMTTYPE=image/png:https://www.adventobudan.hu/wp-content/uploads/2025/10/Advent2024_eventcover_Kamfor-babszinhaz.png
GEO:47.5416808;19.0450078
END:VEVENT
BEGIN:VEVENT
DTSTART;TZID=Europe/Budapest:20251206T182000
DTEND;TZID=Europe/Budapest:20251206T182000
DTSTAMP:20260425T212450
CREATED:20251029T145854Z
LAST-MODIFIED:20251029T145854Z
UID:4639-1765045200-1765045200@www.adventobudan.hu
SUMMARY:Feke Pál
DESCRIPTION:
URL:https://www.adventobudan.hu/esemeny/feke-pal/
LOCATION:Fő tér
CATEGORIES:Advent Óbudán 2025
ATTACH;FMTTYPE=image/png:https://www.adventobudan.hu/wp-content/uploads/2025/10/Advent2024_eventcover_Feke-Pal.png
GEO:47.5416808;19.0450078
END:VEVENT
BEGIN:VEVENT
DTSTART;TZID=Europe/Budapest:20251206T160000
DTEND;TZID=Europe/Budapest:20251206T160000
DTSTAMP:20260425T212450
CREATED:20251029T150030Z
LAST-MODIFIED:20251029T150030Z
UID:4633-1765036800-1765036800@www.adventobudan.hu
SUMMARY:Nóvé Soma és Ifj. Csoóri Sándor
DESCRIPTION:Nóvé Soma 2012-ben kezdte zenei pályafutását a Middlemist Red zenekarban. Azóta számtalan zenei projektben élvezhette a közönség különleges előadásmódját. Nevéhez olyan zenekarok  fűződnek\, mint a MORDÁI\, a The Night Of The Vampire és a Samurai Drive. Ifj. Csoóri Sándor „Sündi” a Buda Folk Band egykori és az Ötödik Évszak jelenlegi társvezetője meghatározó táncszínházi előadások egyre keresettebb zeneszerzője. \nNóvé Soma: ének\, gitár\nIfj. Csoóri Sándor: ének\, brácsa\, tambura \n  \nFotó: Wanda Martin
URL:https://www.adventobudan.hu/esemeny/nove-soma-es-ifj-csoori-sandor/
LOCATION:Fő tér
CATEGORIES:Advent Óbudán 2025
ATTACH;FMTTYPE=image/png:https://www.adventobudan.hu/wp-content/uploads/2025/10/Advent2024_eventcover_Nove-Soma-ifj-Csoori-Sandor.png
GEO:47.5416808;19.0450078
END:VEVENT
BEGIN:VEVENT
DTSTART;TZID=Europe/Budapest:20251206T140000
DTEND;TZID=Europe/Budapest:20251206T160000
DTSTAMP:20260425T212450
CREATED:20251029T150239Z
LAST-MODIFIED:20251030T132026Z
UID:4714-1765029600-1765036800@www.adventobudan.hu
SUMMARY:Koris Mikulás
DESCRIPTION:
URL:https://www.adventobudan.hu/esemeny/koris-mikulas/2025-12-06/2/
LOCATION:Fő tér
CATEGORIES:Advent Óbudán 2025
ATTACH;FMTTYPE=image/png:https://www.adventobudan.hu/wp-content/uploads/2025/10/Advent2024_eventcover_koris-Mikulas.png
GEO:47.5416808;19.0450078
END:VEVENT
BEGIN:VEVENT
DTSTART;TZID=Europe/Budapest:20251206T110000
DTEND;TZID=Europe/Budapest:20251206T110000
DTSTAMP:20260425T212450
CREATED:20251029T152508Z
LAST-MODIFIED:20251201T122750Z
UID:4630-1765018800-1765018800@www.adventobudan.hu
SUMMARY:Zene-bona Társulat mikulás műsora
DESCRIPTION:A Zenebona Társulat előadásában a Mézi és az elveszett recept című mikulásműsort láthatják a gyerekek.
URL:https://www.adventobudan.hu/esemeny/zenebona-tarsulat-mikulasmusora/
LOCATION:Fő tér
CATEGORIES:Advent Óbudán 2025
ATTACH;FMTTYPE=image/png:https://www.adventobudan.hu/wp-content/uploads/2025/10/Advent2024_eventcover_Zenebona-1.png
GEO:47.5416808;19.0450078
END:VEVENT
BEGIN:VEVENT
DTSTART;TZID=Europe/Budapest:20251206T100000
DTEND;TZID=Europe/Budapest:20251206T120000
DTSTAMP:20260425T212450
CREATED:20251029T150239Z
LAST-MODIFIED:20251030T132026Z
UID:4708-1765015200-1765022400@www.adventobudan.hu
SUMMARY:Koris Mikulás
DESCRIPTION:
URL:https://www.adventobudan.hu/esemeny/koris-mikulas/2025-12-06/
LOCATION:Fő tér
CATEGORIES:Advent Óbudán 2025
ATTACH;FMTTYPE=image/png:https://www.adventobudan.hu/wp-content/uploads/2025/10/Advent2024_eventcover_koris-Mikulas.png
GEO:47.5416808;19.0450078
END:VEVENT
BEGIN:VEVENT
DTSTART;TZID=Europe/Budapest:20251205T170000
DTEND;TZID=Europe/Budapest:20251205T213000
DTSTAMP:20260425T212450
CREATED:20251106T084658Z
LAST-MODIFIED:20251112T103727Z
UID:5132-1764954000-1764970200@www.adventobudan.hu
SUMMARY:Arató-jégdiszkó
DESCRIPTION:A fiatalokat és az örök fiatalokat három péntek este is fergeteges Arató Jégdiszkó várja. Figyelem\, készüljenek a kedvenc számaikkal\, az Arató DJ teljesíti a kívánságokat!
URL:https://www.adventobudan.hu/esemeny/arato-jegdiszko/
LOCATION:Fő tér
ATTACH;FMTTYPE=image/jpeg:https://www.adventobudan.hu/wp-content/uploads/2025/11/jegdiszko-4.jpg
GEO:47.5416808;19.0450078
END:VEVENT
BEGIN:VEVENT
DTSTART;TZID=Europe/Budapest:20251205T164500
DTEND;TZID=Europe/Budapest:20251205T170000
DTSTAMP:20260425T212450
CREATED:20251119T090128Z
LAST-MODIFIED:20251119T090428Z
UID:5264-1764953100-1764954000@www.adventobudan.hu
SUMMARY:Óbudai Árpád Gimnázium - fényjáték
DESCRIPTION:
URL:https://www.adventobudan.hu/esemeny/obudai-arpad-gimnazium-buzogany-fenyjatek/
LOCATION:Fő tér
ATTACH;FMTTYPE=image/jpeg:https://www.adventobudan.hu/wp-content/uploads/2025/11/Obudai-Arpad-Gimi.jpg
GEO:47.5416808;19.0450078
END:VEVENT
BEGIN:VEVENT
DTSTART;TZID=Europe/Budapest:20251130T182000
DTEND;TZID=Europe/Budapest:20251130T182000
DTSTAMP:20260425T212450
CREATED:20251029T150430Z
LAST-MODIFIED:20251029T150430Z
UID:4623-1764526800-1764526800@www.adventobudan.hu
SUMMARY:StEfrem
DESCRIPTION:A koncerten nyugati és bizánci dallamok\, jól ismert karácsonyi énekek és saját szerzemények szólalnak meg — köztük a frissen megjelent Fény a fényből című karácsonyi kislemez darabjai is.
URL:https://www.adventobudan.hu/esemeny/stefrem/
LOCATION:Fő tér
CATEGORIES:Advent Óbudán 2025
ATTACH;FMTTYPE=image/png:https://www.adventobudan.hu/wp-content/uploads/2025/10/Advent2024_eventcover_StEfrem.png
GEO:47.5416808;19.0450078
END:VEVENT
BEGIN:VEVENT
DTSTART;TZID=Europe/Budapest:20251130T173000
DTEND;TZID=Europe/Budapest:20251130T173000
DTSTAMP:20260425T212450
CREATED:20251029T150605Z
LAST-MODIFIED:20251119T090823Z
UID:4615-1764523800-1764523800@www.adventobudan.hu
SUMMARY:Gyertyagyújtás
DESCRIPTION:
URL:https://www.adventobudan.hu/esemeny/gyertyagyujtas-4/
LOCATION:Fő tér
CATEGORIES:Advent Óbudán 2025
ATTACH;FMTTYPE=image/jpeg:https://www.adventobudan.hu/wp-content/uploads/2025/10/first-advent-3001611_1280.jpg
GEO:47.5416808;19.0450078
END:VEVENT
BEGIN:VEVENT
DTSTART;TZID=Europe/Budapest:20251130T170000
DTEND;TZID=Europe/Budapest:20251130T170000
DTSTAMP:20260425T212450
CREATED:20251029T153310Z
LAST-MODIFIED:20251029T153310Z
UID:4612-1764522000-1764522000@www.adventobudan.hu
SUMMARY:Tűzzsonglőrök
DESCRIPTION:
URL:https://www.adventobudan.hu/esemeny/tuzzsonglorok-4/
LOCATION:Fő tér
CATEGORIES:Advent Óbudán 2025
ATTACH;FMTTYPE=image/png:https://www.adventobudan.hu/wp-content/uploads/2025/10/Advent2024_eventcover_tuzzsonglor.png
GEO:47.5416808;19.0450078
END:VEVENT
BEGIN:VEVENT
DTSTART;TZID=Europe/Budapest:20251130T160000
DTEND;TZID=Europe/Budapest:20251130T160000
DTSTAMP:20260425T212450
CREATED:20251029T153817Z
LAST-MODIFIED:20251029T153817Z
UID:4608-1764518400-1764518400@www.adventobudan.hu
SUMMARY:Nagy Bogi és zenekara
DESCRIPTION:Első nagyobb sikere a Félek című dalhoz köthető\, aminek dalszerzője és szövegírója is a fiatal énekesnő. \nElső nagylemezét 2024-ben Budapesten a Dürer Kert kistermében mutatták be egy elővételben teltházas koncerten\, ami óta állandó résztvevője a hazai klub színtérnek. \n2025-ben megjelent egy kislemeze\, amiből egy live session felvétel is készült. \nA zenélés mellett 2025-ben már színészi kvalistásait is bontakoztatja\, hiszen a 80 nap a föld körül előadás egyik főszereplőjeként próbálja ki magát. \nHallgassanak bele a fiatal tehetség dalaiba: \nhttps://linktr.ee/nagybogi \n 
URL:https://www.adventobudan.hu/esemeny/nagy-bogi-es-zenekara/
LOCATION:Fő tér
CATEGORIES:Advent Óbudán 2025
ATTACH;FMTTYPE=image/png:https://www.adventobudan.hu/wp-content/uploads/2025/10/Advent2024_eventcover_Nagy-Bogi.png
GEO:47.5416808;19.0450078
END:VEVENT
BEGIN:VEVENT
DTSTART;TZID=Europe/Budapest:20251130T110000
DTEND;TZID=Europe/Budapest:20251130T110000
DTSTAMP:20260425T212450
CREATED:20251029T153736Z
LAST-MODIFIED:20251029T153736Z
UID:4605-1764500400-1764500400@www.adventobudan.hu
SUMMARY:Kovácsovics Fruzsina
DESCRIPTION:Fruzsi az éneklés mellett óvodapedagógusként dolgozik\, így élete fontos szereplői a gyerekek. Koncertjein egy derűs\, interaktív utazásra hívja a kicsiket és a gyermeklelkű felnőtteket: a nézőtér játszótérré változik\, van közös éneklés\, Fruzsi bemutatja a legérdekesebb madarakat és megtanítja a különleges pingvintáncot is…
URL:https://www.adventobudan.hu/esemeny/kovacsovics-fruzsina/
LOCATION:Fő tér
CATEGORIES:Advent Óbudán 2025
ATTACH;FMTTYPE=image/png:https://www.adventobudan.hu/wp-content/uploads/2025/10/Advent2024_eventcover_Kovacsovics-Fruzsina.png
GEO:47.5416808;19.0450078
END:VEVENT
BEGIN:VEVENT
DTSTART;TZID=Europe/Budapest:20251129T182000
DTEND;TZID=Europe/Budapest:20251129T182000
DTSTAMP:20260425T212450
CREATED:20251029T153016Z
LAST-MODIFIED:20251029T153042Z
UID:4601-1764440400-1764440400@www.adventobudan.hu
SUMMARY:Misztrál
DESCRIPTION:
URL:https://www.adventobudan.hu/esemeny/misztral/
LOCATION:Fő tér
ATTACH;FMTTYPE=image/png:https://www.adventobudan.hu/wp-content/uploads/2025/10/Advent2024_eventcover_Misztral.png
GEO:47.5416808;19.0450078
END:VEVENT
BEGIN:VEVENT
DTSTART;TZID=Europe/Budapest:20251129T160000
DTEND;TZID=Europe/Budapest:20251129T160000
DTSTAMP:20260425T212450
CREATED:20251029T152842Z
LAST-MODIFIED:20251029T152842Z
UID:4595-1764432000-1764432000@www.adventobudan.hu
SUMMARY:Palya Bea és zenekara
DESCRIPTION:A koncerten felcsendülnek Bea legnépszerűbb dalai is\, és sok más dal\, amelyekben ott pulzál az élet\, a hála és az emberi lélek melegsége. A Fénydalok album dalai a szív üzenetei: letisztultak\, őszinték\, mélyek. Ezek a dalok a kapcsolódásról\, a szeretetről\, az újrakezdésről szólnak\, arról\, hogyan gyújthatunk új fényt magunkban és egymásban. \nGyere\, és engedd\, hogy a zene átmelegítsen\, lelassítson. Hangolódjunk együtt az ünnepekre! \n  \nFotó: Veres Anita – Határtalan KÉPzelet
URL:https://www.adventobudan.hu/esemeny/palya-bea-es-zenekara/
LOCATION:Fő tér
CATEGORIES:Advent Óbudán 2025
ATTACH;FMTTYPE=image/png:https://www.adventobudan.hu/wp-content/uploads/2025/10/Advent2024_eventcover_Palya-Bea.png
GEO:47.5416808;19.0450078
END:VEVENT
BEGIN:VEVENT
DTSTART;TZID=Europe/Budapest:20251129T120000
DTEND;TZID=Europe/Budapest:20251129T130000
DTSTAMP:20260425T212450
CREATED:20251118T125834Z
LAST-MODIFIED:20251118T130134Z
UID:5231-1764417600-1764421200@www.adventobudan.hu
SUMMARY:Óbuda Hockey Academy - jéghoki bemutató
DESCRIPTION:Programukba a 4-8 éves korosztályt várják\, hogy lépésről lépésre fejlődve sajátítsák el a korcsolyázást és a sportág alaptechnikáit. \nA gyerekek 5 éves kortól már játékos mérkőzéseken is részt vehetnek\, amelyek nemcsak élményt adnak\, hanem fejlesztik a csapatszellemet\, a figyelmet és az önbizalmat is. Foglalkozásaik során kiemelt hangsúlyt kap a mindkét agyféltekét fejlesztő\, koordinációt és kreativitást erősítő mozgás. \nEdzéseik helyszíne az Óbudai Jégcsarnok\, a Bécsi úti Tesco mellett\, könnyen megközelíthető\, családbarát környezetben. \nAz Advent Óbudán programsorozat keretében két alkalommal látványos bemutató edzést tartanak a Fő téri korcsolyapályán\, ahová szeretettel várnak minden érdeklődőt – gyerekeket\, szülőket és leendő kis hokisokat egyaránt. \n 
URL:https://www.adventobudan.hu/esemeny/obuda-hockey-academy-jeghoki-bemutato/
LOCATION:Fő tér
CATEGORIES:Advent Óbudán 2025
ATTACH;FMTTYPE=image/jpeg:https://www.adventobudan.hu/wp-content/uploads/2025/11/Obuda-Hockey-Academy.jpg
GEO:47.5416808;19.0450078
END:VEVENT
BEGIN:VEVENT
DTSTART;TZID=Europe/Budapest:20251129T110000
DTEND;TZID=Europe/Budapest:20251221T200000
DTSTAMP:20260425T212450
CREATED:20251029T154809Z
LAST-MODIFIED:20251208T134344Z
UID:4691-1764414000-1766347200@www.adventobudan.hu
SUMMARY:Mézeskalács ház
DESCRIPTION:Idén ismét Óbudára látogat a Mikulás a manóival\, hogy a tündöklő mézeskalács házában fogadja a gyerekeket. A Mikulás november 29. és december 6. között szombaton és vasárnap 11.00–19.00 óráig\, hétköznaponként 16.00–19.00 óráig várja a gyerekeket. \nDecember 6-án este a jóságos Mikulás rénszarvasszánjára pattanva elhagyja a Fő teret\, de a pompásan kivilágított ház nem marad magára. \nDecember 21-ig\, a kedves házikóban kézműves foglalkoztatóval várjuk az ügyes kezű kicsiket. \n  \nNyitvatartás: \ndecember 7.\, vasárnap                                  11.00 – 19.00 \ndecember 08 – 12 (hétfőtől péntekig)     16.00 – 19.00  \ndecember 13.\,szombat                                   11.00 – 19.00  \ndecember 14.\, vasárnap                                11.00 – 19.00  \ndecember 15 – 19 (hétfőtől péntekig)      16.00 – 19.00  \ndecember 20.\,szombat                                  11.00 – 19.00  \ndecember 21.\,vasárnap                                 11.00 – 19.00  \n 
URL:https://www.adventobudan.hu/esemeny/mezeskalacs-haz/
LOCATION:Fő tér
CATEGORIES:Advent Óbudán 2025
ATTACH;FMTTYPE=image/png:https://www.adventobudan.hu/wp-content/uploads/2025/10/Advent2024_eventcover_mezeskalacshaz.png
GEO:47.5416808;19.0450078
END:VEVENT
BEGIN:VEVENT
DTSTART;TZID=Europe/Budapest:20251129T110000
DTEND;TZID=Europe/Budapest:20251129T110000
DTSTAMP:20260425T212450
CREATED:20251016T084043Z
LAST-MODIFIED:20251030T135213Z
UID:4589-1764414000-1764414000@www.adventobudan.hu
SUMMARY:Kaláka együttes - 3 székláb
DESCRIPTION:Felhangzanak többek között Kányádi Sándor\, Weöres Sándor\, Tamkó Sirató Károly\, Móra Ferenc\, Hajnal Anna verseire írott dalok a sokak által kedvelt lemezek (A pelikán; Nálatok laknak-e állatok?; Ukulele; Az én szívemben boldogok a tárgyak; Bőrönd Ödön; Madáretető) darabjai. \nA Kaláka muzsikusai bemutatják érdekes hangszereiket\, lehet együtt énekelni\, együtt szajkó módra verset mondani és még közösen muzsikálni is.
URL:https://www.adventobudan.hu/esemeny/kalaka-egyuttes-3-szeklab/
LOCATION:Fő tér
CATEGORIES:Advent Óbudán 2025
ATTACH;FMTTYPE=image/png:https://www.adventobudan.hu/wp-content/uploads/2025/10/Advent2024_eventcover_Kalaka-3-szeklab.png
GEO:47.5416808;19.0450078
END:VEVENT
BEGIN:VEVENT
DTSTART;TZID=Europe/Budapest:20251129T103000
DTEND;TZID=Europe/Budapest:20251221T180000
DTSTAMP:20260425T212450
CREATED:20251127T100649Z
LAST-MODIFIED:20251209T150020Z
UID:5363-1764412200-1766340000@www.adventobudan.hu
SUMMARY:Olaf és Elza
DESCRIPTION:A csodás Andersen mese adaptációjának\, a Jégvarázsnak figurái elevenednek meg Óbuda Fő terén! \nOlaf és Elza november 29. és december 21. között minden szombaton és vasárnap ellátogat Óbudára\, hogy a gyerekekkel találkozzon és közös fényképet csináljon velük. \nA két varázslatos mesefigurával az alábbi időpontokban találkozhatnak: \n\n\n\nElza\n2025. november 29.\, szombat\n10.30-11.30  és 17.00-18.00\n\n\nOlaf\n2025. november 30.\,vasárnap\n10.30-11.30  és 17.00-18.00\n\n\nOlaf\n2025. december 6.\, szombat\n10.30-11.30  és 17.00-18.00\n\n\nElza\n2025. december 7.\, vasárnap\n10.30-11.30  és 17.00-18.00\n\n\nElza\n2025. december 13.\, szombat\n10.30-11.30  és 17.00-18.00\n\n\nOlaf\n2025. december 14.\,vasárnap\n10.30-11.30  és 17.00-18.00\n\n\nOlaf\n2025. december 20.\, szombat\n10.30-11.30  és 17.00-18.00\n\n\nElza\n2025. december 21.\, vasárnap\n10.30-11.30  és 17.00-18.00
URL:https://www.adventobudan.hu/esemeny/olaf-es-elza/
LOCATION:Fő tér
CATEGORIES:Advent Óbudán 2025
ATTACH;FMTTYPE=image/png:https://www.adventobudan.hu/wp-content/uploads/2025/11/Advent2024_eventcover_olaf_es_elza.png
GEO:47.5416808;19.0450078
END:VEVENT
BEGIN:VEVENT
DTSTART;TZID=Europe/Budapest:20251128T182000
DTEND;TZID=Europe/Budapest:20251128T182000
DTSTAMP:20260425T212450
CREATED:20251016T083335Z
LAST-MODIFIED:20251029T150840Z
UID:4585-1764354000-1764354000@www.adventobudan.hu
SUMMARY:Gájer Bálint Voice&Piano
DESCRIPTION:
URL:https://www.adventobudan.hu/esemeny/gajer-balint-voicepiano/
LOCATION:Fő tér
CATEGORIES:Advent Óbudán 2025
ATTACH;FMTTYPE=image/png:https://www.adventobudan.hu/wp-content/uploads/2025/10/Advent2024_eventcover_Gajer-Balint.png
GEO:47.5416808;19.0450078
END:VEVENT
BEGIN:VEVENT
DTSTART;TZID=Europe/Budapest:20251128T170000
DTEND;TZID=Europe/Budapest:20251128T170000
DTSTAMP:20260425T212451
CREATED:20251016T080457Z
LAST-MODIFIED:20251030T135432Z
UID:4556-1764349200-1764349200@www.adventobudan.hu
SUMMARY:Díszkivilágítás felkapcsolása
DESCRIPTION:
URL:https://www.adventobudan.hu/esemeny/diszkivilagitas-felkapcsolasa/
LOCATION:Fő tér
CATEGORIES:Advent Óbudán 2025
ATTACH;FMTTYPE=image/jpeg:https://www.adventobudan.hu/wp-content/uploads/2025/10/Bekas-boldog-karacsonyt.jpg
GEO:47.5416808;19.0450078
END:VEVENT
BEGIN:VEVENT
DTSTART;TZID=Europe/Budapest:20251128T140000
DTEND;TZID=Europe/Budapest:20251221T200000
DTSTAMP:20260425T212451
CREATED:20251029T155217Z
LAST-MODIFIED:20251105T111408Z
UID:4838-1764338400-1766347200@www.adventobudan.hu
SUMMARY:Karácsonyi fotópontok
DESCRIPTION:
URL:https://www.adventobudan.hu/esemeny/karacsonyi-fotopontok/
LOCATION:Fő tér
CATEGORIES:Advent Óbudán 2025
ATTACH;FMTTYPE=image/png:https://www.adventobudan.hu/wp-content/uploads/2025/10/Advent2024_eventcover_fotopont.png
GEO:47.5416808;19.0450078
END:VEVENT
BEGIN:VEVENT
DTSTART;TZID=Europe/Budapest:20251128T140000
DTEND;TZID=Europe/Budapest:20251220T200000
DTSTAMP:20260425T212451
CREATED:20251105T111133Z
LAST-MODIFIED:20251105T111133Z
UID:5128-1764338400-1766260800@www.adventobudan.hu
SUMMARY:Adni jó! - Jótékonysága nekünk is sokat ér!
DESCRIPTION:Gyerekek karácsonyának szebbé tétele érdekében a Baptista Szeretetszolgálat „Cipősdoboz” akciójához járulhatnak hozzá\, négylábú barátainknak juttatandó adományokat az Óbudai Kutyás Egyesület mentorálásával az Ebremény Egyesület várja. \nVásárolhatnak is az évek óta töretlen népszerűségnek örvendő Óbudai Rehabilitációs és Foglalkoztatási Központ ellátottjainak meseszép munkáiból\, így támogatva a Központ munkáját. \nNagylelkűségüket idén is díjazzuk – adományozásuk Lumina Park családi belépőt érhet.\nBármelyik adománygyűjtő akciónkkal\, illetve az Óbudai Rehabilitációs és Foglalkoztatási Központ ellátottjainak portékájából 3.000 forint feletti értékben történő vásárlással értékes családi belépőt nyerhet a varázslatos Lumina Parkba!\nEhhez nem kell mást tennie\, mint adományoznia\, kitölteni a tombolaszelvényt\, megadnia nevét és e-mail címét\, így részt vehet a sorsoláson.\nA heti öt szerencsés nyertest minden vasárnap az adventi gyertyagyújtást követően sorsoljuk ki a Fő téren.\nA sorsolások időpontjai: november 30. december 7.\, 14.\, 21. 17.40 után \nKöszönjük\, hogy hozzájárulnak adventi jótékonysági akciónkhoz és sok szerencsét kívánunk
URL:https://www.adventobudan.hu/esemeny/adni-jo-jotekonysaga-nekunk-is-sokat-er/
LOCATION:Fő tér
CATEGORIES:Advent Óbudán 2025
ATTACH;FMTTYPE=image/png:https://www.adventobudan.hu/wp-content/uploads/2025/10/Advent2024_eventcover_adomanygyujtes-1.png
GEO:47.5416808;19.0450078
END:VEVENT
END:VCALENDAR