BEGIN:VCALENDAR
VERSION:2.0
PRODID:-//Advent Óbudán 2025 | Obuda.hu - ECPv6.15.12.2//NONSGML v1.0//EN
CALSCALE:GREGORIAN
METHOD:PUBLISH
X-ORIGINAL-URL:https://www.adventobudan.hu
X-WR-CALDESC:Események Advent Óbudán 2025 | Obuda.hu
REFRESH-INTERVAL;VALUE=DURATION:PT1H
X-Robots-Tag:noindex
X-PUBLISHED-TTL:PT1H
BEGIN:VTIMEZONE
TZID:Europe/Budapest
BEGIN:DAYLIGHT
TZOFFSETFROM:+0100
TZOFFSETTO:+0200
TZNAME:CEST
DTSTART:20240331T010000
END:DAYLIGHT
BEGIN:STANDARD
TZOFFSETFROM:+0200
TZOFFSETTO:+0100
TZNAME:CET
DTSTART:20241027T010000
END:STANDARD
BEGIN:DAYLIGHT
TZOFFSETFROM:+0100
TZOFFSETTO:+0200
TZNAME:CEST
DTSTART:20250330T010000
END:DAYLIGHT
BEGIN:STANDARD
TZOFFSETFROM:+0200
TZOFFSETTO:+0100
TZNAME:CET
DTSTART:20251026T010000
END:STANDARD
BEGIN:DAYLIGHT
TZOFFSETFROM:+0100
TZOFFSETTO:+0200
TZNAME:CEST
DTSTART:20260329T010000
END:DAYLIGHT
BEGIN:STANDARD
TZOFFSETFROM:+0200
TZOFFSETTO:+0100
TZNAME:CET
DTSTART:20261025T010000
END:STANDARD
END:VTIMEZONE
BEGIN:VEVENT
DTSTART;TZID=Europe/Budapest:20251221T182000
DTEND;TZID=Europe/Budapest:20251221T182000
DTSTAMP:20260425T184735
CREATED:20251028T072957Z
LAST-MODIFIED:20251029T141830Z
UID:4704-1766341200-1766341200@www.adventobudan.hu
SUMMARY:Kaláka - Szabad-e bejönni ide betlehemmel?
DESCRIPTION:A Kaláka együttes karácsonyi hangversenyének kerete ez a betlehemes játék. A műsorban elhangzanak magyar és más nemzetiségű karácsonyi népdalok\, régi egyházi énekek\, karácsonyi versekre írott Kaláka dalok. \n1987-ben jelent meg ez a lemez. Azóta járnak a Kaláka-betlehemesek adventkor „házról-házra”\, templomról-templomra\, iskoláról-iskolára\, színházról-színházra. Minden évben néhány napot határainkon túli magyarlakta vidéken töltenek\, így az eddigi kb. 600 karácsonyi előadás harmada Erdélyben\, a Partiumban\, Kárpátalján\, Vajdaságban\, a Felvidéken\, Burgenlandban\, Szlovéniában\, a horvátországi Baranyában és Csángóföldön volt\, de énekelték karácsonyi koncertjüket Bécsben\, Brüsszelben\, Bukarestben\, Szarajevóban és Zágrábban is. \nA hagyományokhoz híven ebben az évben is ellátogatnak Óbuda közönségéhez is. \nElőadják: Becze Gábor\, Gryllus Dániel\, Major Gábor és Radványi Balázs
URL:https://www.adventobudan.hu/esemeny/kalaka-szabad-e-bejonni-ide-betlehemmel/
LOCATION:Fő tér
CATEGORIES:Advent Óbudán 2025
ATTACH;FMTTYPE=image/png:https://www.adventobudan.hu/wp-content/uploads/2025/10/Advent2024_eventcover_Kalaka.png
GEO:47.5416808;19.0450078
END:VEVENT
BEGIN:VEVENT
DTSTART;TZID=Europe/Budapest:20251221T173000
DTEND;TZID=Europe/Budapest:20251221T173000
DTSTAMP:20260425T184735
CREATED:20251028T073036Z
LAST-MODIFIED:20251028T073036Z
UID:4701-1766338200-1766338200@www.adventobudan.hu
SUMMARY:Gyertyagyújtás
DESCRIPTION:
URL:https://www.adventobudan.hu/esemeny/gyertyagyujtas/
LOCATION:Fő tér
CATEGORIES:Advent Óbudán 2025
ATTACH;FMTTYPE=image/jpeg:https://www.adventobudan.hu/wp-content/uploads/2025/10/fourth-advent-3001674_19201.jpg
GEO:47.5416808;19.0450078
END:VEVENT
BEGIN:VEVENT
DTSTART;TZID=Europe/Budapest:20251221T170000
DTEND;TZID=Europe/Budapest:20251221T170000
DTSTAMP:20260425T184735
CREATED:20251028T081302Z
LAST-MODIFIED:20251029T142829Z
UID:4699-1766336400-1766336400@www.adventobudan.hu
SUMMARY:Tűzzsonglőrök
DESCRIPTION:
URL:https://www.adventobudan.hu/esemeny/tuzzsonglorok/
LOCATION:Fő tér
CATEGORIES:Advent Óbudán 2025
ATTACH;FMTTYPE=image/png:https://www.adventobudan.hu/wp-content/uploads/2025/10/Advent2024_eventcover_tuzzsonglor.png
GEO:47.5416808;19.0450078
END:VEVENT
BEGIN:VEVENT
DTSTART;TZID=Europe/Budapest:20251221T160000
DTEND;TZID=Europe/Budapest:20251221T160000
DTSTAMP:20260425T184735
CREATED:20251028T082347Z
LAST-MODIFIED:20251029T142918Z
UID:4696-1766332800-1766332800@www.adventobudan.hu
SUMMARY:Budapest Ragtime Band
DESCRIPTION:A zenekar egyedi hangzásával és stílusával a 20. század elejének dzsesszes hangulatát idézi meg\, miközben friss energiákkal és virtuozitással tölti meg a színpadot. A ragtime\, amely a jazz egyik legfontosabb előfutárúnak számít\, a Budapest Ragtime Band kezei között új életre kel – a zenekar minden egyes dallamában egy különleges történetet mesél el\, miközben tisztelettel adózik a műfaj hagyományainak. Egy fergeteges zenei utazás a jazz gyökereihez\, amely egyúttal a zene örök frissességét és dinamizmusát is ünnepli.
URL:https://www.adventobudan.hu/esemeny/budapest-ragtime-band/
LOCATION:Fő tér
CATEGORIES:Advent Óbudán 2025
ATTACH;FMTTYPE=image/png:https://www.adventobudan.hu/wp-content/uploads/2025/10/Advent2024_eventcover_Budapest-Ragtime-Band.png
GEO:47.5416808;19.0450078
END:VEVENT
BEGIN:VEVENT
DTSTART;TZID=Europe/Budapest:20251221T110000
DTEND;TZID=Europe/Budapest:20251221T110000
DTSTAMP:20260425T184735
CREATED:20251028T082940Z
LAST-MODIFIED:20251029T143030Z
UID:4692-1766314800-1766314800@www.adventobudan.hu
SUMMARY:Kámfor zenés bábszínház
DESCRIPTION:A nézők a Csillagszemű Juhász Kozmikus Kalandja című népmesés interaktív marionett-bábjátékkal  ismerkedhetnek meg. \nMesélő:\nHorváth Szervác Sándor \nZenészek:\nLengyel Levente és Kasó Máté (Gitár\, Zongora)
URL:https://www.adventobudan.hu/esemeny/kamfor-zenes-babszinhaz/
LOCATION:Fő tér
CATEGORIES:Advent Óbudán 2025
ATTACH;FMTTYPE=image/png:https://www.adventobudan.hu/wp-content/uploads/2025/10/Advent2024_eventcover_Kamfor-babszinhaz.png
GEO:47.5416808;19.0450078
END:VEVENT
BEGIN:VEVENT
DTSTART;TZID=Europe/Budapest:20251220T182000
DTEND;TZID=Europe/Budapest:20251220T182000
DTSTAMP:20260425T184735
CREATED:20251028T082859Z
LAST-MODIFIED:20251029T143308Z
UID:4687-1766254800-1766254800@www.adventobudan.hu
SUMMARY:Gudics Máté
DESCRIPTION:Koncertjén többek között Charlie\, Máté Péter\, a Tátrai Band és az LGT dalait is felcsendülnek.
URL:https://www.adventobudan.hu/esemeny/gudics-mate/
LOCATION:Fő tér
CATEGORIES:Advent Óbudán 2025
ATTACH;FMTTYPE=image/png:https://www.adventobudan.hu/wp-content/uploads/2025/10/Advent2024_eventcover_Gudics-Mate-1.png
GEO:47.5416808;19.0450078
END:VEVENT
BEGIN:VEVENT
DTSTART;TZID=Europe/Budapest:20251220T160000
DTEND;TZID=Europe/Budapest:20251220T160000
DTSTAMP:20260425T184735
CREATED:20251028T134734Z
LAST-MODIFIED:20251029T144211Z
UID:4685-1766246400-1766246400@www.adventobudan.hu
SUMMARY:Szabó Ádám harmonikaművész
DESCRIPTION:A színpadon most a lélek és a család hangját hozza el\, hiszen 2025-ben apa lett\, és feleségével közösen nevelik kisfiukat\, Ádint\, életének legnagyobb büszkeségét. Adventi koncertjén a szeretet\, a fény és a zene találkozik szívből\, őszintén\, Szabó Ádám módra.” 🎶✨
URL:https://www.adventobudan.hu/esemeny/szabo-adam-harmonikamuvesz/
LOCATION:Fő tér
CATEGORIES:Advent Óbudán 2025
ATTACH;FMTTYPE=image/png:https://www.adventobudan.hu/wp-content/uploads/2025/10/Advent2024_eventcover_Szabo-Adam.png
GEO:47.5416808;19.0450078
END:VEVENT
BEGIN:VEVENT
DTSTART;TZID=Europe/Budapest:20251220T150000
DTEND;TZID=Europe/Budapest:20251220T150000
DTSTAMP:20260425T184735
CREATED:20251028T135123Z
LAST-MODIFIED:20251029T144303Z
UID:4682-1766242800-1766242800@www.adventobudan.hu
SUMMARY:Falusi Mariann
DESCRIPTION:
URL:https://www.adventobudan.hu/esemeny/falusi-mariann/
LOCATION:Fő tér
CATEGORIES:Advent Óbudán 2025
ATTACH;FMTTYPE=image/png:https://www.adventobudan.hu/wp-content/uploads/2025/10/Advent2024_eventcover_Falusi-Mariann.png
GEO:47.5416808;19.0450078
END:VEVENT
BEGIN:VEVENT
DTSTART;TZID=Europe/Budapest:20251220T110000
DTEND;TZID=Europe/Budapest:20251220T110000
DTSTAMP:20260425T184735
CREATED:20251029T100026Z
LAST-MODIFIED:20251030T131453Z
UID:4679-1766228400-1766228400@www.adventobudan.hu
SUMMARY:Farkasházi Réka és a Tintanyúl
DESCRIPTION:🎄Az ünnep akkor válik igazivá\, amikor a szívekben is kigyúlnak a fények. Farkasházi Réka és a Tintanyúl zenekar idén is meghitt\, zenével teli karácsonyt varázsol – kicsiknek és nagyoknak egyaránt. Az Igazi karácsony című album és a zenekar további karácsonyi dalai\, meglepetések\, újdonságok és az ünnep legszebb pillanatai várják a közönséget. \n✨ Hogyan lehet igazán karácsony?\nIgazak a fények\, az illatok\, a hópelyhek – de az igazi karácsony a szívekben csillan meg.\nLégy részese egy különleges\, közös élménynek – ahol a zene\, a szeretet és az együtt töltött idő teszi valódivá az ünnepet. \n 
URL:https://www.adventobudan.hu/esemeny/farkashazi-reka-es-a-tintanyul/
LOCATION:Fő tér
CATEGORIES:Advent Óbudán 2025
ATTACH;FMTTYPE=image/png:https://www.adventobudan.hu/wp-content/uploads/2025/10/Advent2024_eventcover_Farkashazi-Reka-es-a-Tintanyul.png
GEO:47.5416808;19.0450078
END:VEVENT
BEGIN:VEVENT
DTSTART;TZID=Europe/Budapest:20251219T170000
DTEND;TZID=Europe/Budapest:20251219T213000
DTSTAMP:20260425T184735
CREATED:20251106T084658Z
LAST-MODIFIED:20251112T103727Z
UID:5139-1766163600-1766179800@www.adventobudan.hu
SUMMARY:Arató-jégdiszkó
DESCRIPTION:A fiatalokat és az örök fiatalokat három péntek este is fergeteges Arató Jégdiszkó várja. Figyelem\, készüljenek a kedvenc számaikkal\, az Arató DJ teljesíti a kívánságokat!
URL:https://www.adventobudan.hu/esemeny/arato-jegdiszko/2025-12-19/
LOCATION:Fő tér
ATTACH;FMTTYPE=image/jpeg:https://www.adventobudan.hu/wp-content/uploads/2025/11/jegdiszko-4.jpg
GEO:47.5416808;19.0450078
END:VEVENT
BEGIN:VEVENT
DTSTART;TZID=Europe/Budapest:20251214T182000
DTEND;TZID=Europe/Budapest:20251214T182000
DTSTAMP:20260425T184735
CREATED:20251029T100206Z
LAST-MODIFIED:20251029T144511Z
UID:4677-1765736400-1765736400@www.adventobudan.hu
SUMMARY:Király Linda és Király Viktor
DESCRIPTION:A koncerten elhangzanak magyar és angol nyelvű dalok is így a  Presser-dalaitól kezdve\, (Szerelem utolsó vérig\, Fák is siratják ) a nagy világsztárok dalaiból is kaphat egy nagyobb merítést a hallgatóság. Az egyedülálló estén a szívükhöz legközelebb álló dalokat adják majd elő a testvérek. \n  \n 
URL:https://www.adventobudan.hu/esemeny/kiraly-linda-es-kiraly-viktor/
LOCATION:Fő tér
CATEGORIES:Advent Óbudán 2025
ATTACH;FMTTYPE=image/png:https://www.adventobudan.hu/wp-content/uploads/2025/10/Advent2024_eventcover_Kiraly-Linda-es-Viktor.png
GEO:47.5416808;19.0450078
END:VEVENT
BEGIN:VEVENT
DTSTART;TZID=Europe/Budapest:20251214T173000
DTEND;TZID=Europe/Budapest:20251214T173000
DTSTAMP:20260425T184735
CREATED:20251029T100317Z
LAST-MODIFIED:20251029T101011Z
UID:4674-1765733400-1765733400@www.adventobudan.hu
SUMMARY:Gyertyagyújtás
DESCRIPTION:
URL:https://www.adventobudan.hu/esemeny/gyertyagyujtas-2/
LOCATION:Fő tér
CATEGORIES:Advent Óbudán 2025
ATTACH;FMTTYPE=image/jpeg:https://www.adventobudan.hu/wp-content/uploads/2025/10/third-advent-3001641_1920.jpg
GEO:47.5416808;19.0450078
END:VEVENT
BEGIN:VEVENT
DTSTART;TZID=Europe/Budapest:20251214T170000
DTEND;TZID=Europe/Budapest:20251214T170000
DTSTAMP:20260425T184735
CREATED:20251029T101923Z
LAST-MODIFIED:20251029T144600Z
UID:4672-1765731600-1765731600@www.adventobudan.hu
SUMMARY:Tűzzsonglőrök
DESCRIPTION:
URL:https://www.adventobudan.hu/esemeny/tuzzsonglorok-2/
LOCATION:Fő tér
CATEGORIES:Advent Óbudán 2025
ATTACH;FMTTYPE=image/png:https://www.adventobudan.hu/wp-content/uploads/2025/10/Advent2024_eventcover_tuzzsonglor.png
GEO:47.5416808;19.0450078
END:VEVENT
BEGIN:VEVENT
DTSTART;TZID=Europe/Budapest:20251214T160000
DTEND;TZID=Europe/Budapest:20251214T160000
DTSTAMP:20260425T184735
CREATED:20251029T101957Z
LAST-MODIFIED:20251029T144630Z
UID:4669-1765728000-1765728000@www.adventobudan.hu
SUMMARY:Song Factory
DESCRIPTION:A legnépszerűbb magyar és nemzetközi könnyűzenei előadók dalaiból\, valamint változatos karácsonyi repertoárjukból válogattak egy csokorra valót\, természetesen egyedi kórus átiratok formájában\, Hetei-Bakó Benedek vezetésével. A kóruséneklés számukra a közösséget jelenti: egyszerre szól a kikapcsolódásról\, a feltöltődésről és a kreatív alkotásról. Fellépéseik egyedi hangulatot teremtenek a pop\, rock\, jazz\, gospel\, spirituálék és ismert filmzenék keverékével\, így mindenki találhat benne kedvére valót
URL:https://www.adventobudan.hu/esemeny/song-factory/
LOCATION:Fő tér
CATEGORIES:Advent Óbudán 2025
ATTACH;FMTTYPE=image/png:https://www.adventobudan.hu/wp-content/uploads/2025/10/Advent2024_eventcover_Song-Factory.png
GEO:47.5416808;19.0450078
END:VEVENT
BEGIN:VEVENT
DTSTART;TZID=Europe/Budapest:20251214T123000
DTEND;TZID=Europe/Budapest:20251214T130000
DTSTAMP:20260425T184735
CREATED:20251118T144031Z
LAST-MODIFIED:20251202T113639Z
UID:5243-1765715400-1765717200@www.adventobudan.hu
SUMMARY:Az Ungvári Művészeti Iskola magyar hagyományőrző előadása
DESCRIPTION:A Ungvár és Óbuda-Békásmegyer között a közelmúltban aláírt testvérvárosi egyezmény tiszteletére az Advent Óbudán színpadán csodálhatjuk meg az Ungvári Művészeti Iskola Magyar Hagyományőrző csoportjának előadását. \nA látványos produkcióban az Ungvári művészeti Iskola „Szivárvány” magyar néptáncegyüttesének táncbemutatóját és az „Eszterlánc” magyar népdalegyüttesének csodás dalait láthatja\, hallhatja a közönség. \nAz Ungvári Művészeti Iskolában 2012-ben alakult meg a „Szivárvány” magyar  néptáncegyüttes. Az együttes vezetője Vaszilina Szinicska. \nAz együttes fennállása alatt aktívan részt vesz különböző fesztiválokon\, néptánc és művészeti találkozókon\, művészeti rendezvényeken. Évről évre szerepelnek megyei és nemzetközi fesztiválokon  és versenyeken\, ahol számos rangos díjat nyertek és magas szakmai elismerést kaptak. \n  \nSzintén az Ungvári Művészeti Iskolában  alakult meg az „Eszterlánc” magyar  népdalegyüttes 1996-ban\, 2010 óta az együttes vezetője Révész Réka. \nAz együttes fennállása alatt aktívan vett részt különböző fesztiválokon\, kórustalálkozókon és művészeti rendezvényeken. Évről évre szerepelnek versenyeken\, számos rangos hazai és nemzetközi díjat elnyerve. \nAz együttes rendszeresen fellép a hivatásos megyei magyar kamaraegyüttes  „Magyar Melódiák” koncertjein\, valamint vendégszereplői és gyakori vendégei az Ungvári Konzulátus által szervezett rendezvényeknek. Előadásaikat a művészi igényesség\, a professzionalizmus és a magyar dalhagyományok ápolása jellemzi. \n  \n  \nFogadják szeretettel legújabb testvérvárosunk magyar hagyományőrző produkcióját! \n  \n 
URL:https://www.adventobudan.hu/esemeny/az-ungvari-muveszeti-iskola-magyar-hagyomanyorzo-eloadasa/
LOCATION:Fő tér
CATEGORIES:Advent Óbudán 2025
ATTACH;FMTTYPE=image/jpeg:https://www.adventobudan.hu/wp-content/uploads/2025/11/4.jpg
GEO:47.5416808;19.0450078
END:VEVENT
BEGIN:VEVENT
DTSTART;TZID=Europe/Budapest:20251214T110000
DTEND;TZID=Europe/Budapest:20251214T110000
DTSTAMP:20260425T184735
CREATED:20251029T102150Z
LAST-MODIFIED:20251029T144811Z
UID:4666-1765710000-1765710000@www.adventobudan.hu
SUMMARY:Bergengóc Zenegóc
DESCRIPTION:
URL:https://www.adventobudan.hu/esemeny/bergengoc-zenegoc-zenekar/
LOCATION:Fő tér
CATEGORIES:Advent Óbudán 2025
ATTACH;FMTTYPE=image/png:https://www.adventobudan.hu/wp-content/uploads/2025/10/Advent2024_eventcover_Bergengoc.png
GEO:47.5416808;19.0450078
END:VEVENT
BEGIN:VEVENT
DTSTART;TZID=Europe/Budapest:20251213T182000
DTEND;TZID=Europe/Budapest:20251213T182000
DTSTAMP:20260425T184735
CREATED:20251029T134715Z
LAST-MODIFIED:20251209T085121Z
UID:4661-1765650000-1765650000@www.adventobudan.hu
SUMMARY:Muzsikás együttes és Petrás Mária
DESCRIPTION:A több mint öt évtizede alakult Muzsikás\, a világszerte legismertebb magyar népzenei együttes\, amelynek elsőként sikerült elfogadtatnia a magyar népzenét\, mint önálló\, minden más műfajjal egyenértékű zenei stílust. Az autentikus magyar népzenét rendkívüli élménnyé teszik\, követve a legkiválóbb falusi zenészek hagyományos előadásmódját és improvizációs stílusát\, mindezt egyedi\, csak a Muzsikásra jellemző stílusban. \n  \n 
URL:https://www.adventobudan.hu/esemeny/muzsikas-egyuttes-es-vendegeik/
LOCATION:Fő tér
CATEGORIES:Advent Óbudán 2025
ATTACH;FMTTYPE=image/png:https://www.adventobudan.hu/wp-content/uploads/2025/10/Advent2024_eventcover_Muzsikas-02-1.png
GEO:47.5416808;19.0450078
END:VEVENT
BEGIN:VEVENT
DTSTART;TZID=Europe/Budapest:20251213T160000
DTEND;TZID=Europe/Budapest:20251213T160000
DTSTAMP:20260425T184735
CREATED:20251029T134748Z
LAST-MODIFIED:20251029T145155Z
UID:4656-1765641600-1765641600@www.adventobudan.hu
SUMMARY:Ress Hajni
DESCRIPTION:A színpadon Ress Hajnalka előadóművészt\, Pánczél Kristóf zongoraművészt és Varga Sándor Zoltán eufóniumművészt hallhatják majd. \nAz ünnep hangulatához köthető dalok nem a megszokott módon csendülnek majd fel az előadásukban\, a dalok Mariah Carey-től George Michael-en át Celine Dion-ig idéznek meg stílusokat\, miközben a kisebbekről sem feledkeznek meg a művészek. \nHangolódjunk Ress Hajniékkal az év legcsodásabb ünnepére! \nSzeretettel várjuk Önöket!
URL:https://www.adventobudan.hu/esemeny/ress-hajni/
LOCATION:Fő tér
CATEGORIES:Advent Óbudán 2025
ATTACH;FMTTYPE=image/png:https://www.adventobudan.hu/wp-content/uploads/2025/10/Advent2024_eventcover_Ress-Hajni.png
GEO:47.5416808;19.0450078
END:VEVENT
BEGIN:VEVENT
DTSTART;TZID=Europe/Budapest:20251213T143000
DTEND;TZID=Europe/Budapest:20251213T150000
DTSTAMP:20260425T184735
CREATED:20251111T131553Z
LAST-MODIFIED:20251111T131605Z
UID:5201-1765636200-1765638000@www.adventobudan.hu
SUMMARY:Tarka Kórus
DESCRIPTION:Repertoárjuk Annamari kedvenc dalai – legyen az bolgár\, magyar népdal\, mexikói vagy arab dal\, illetve saját szerzemény -\, amelyeket ő ír át többszólamú kórus művekké. A kórus nevét a zenei sokszínűség mellett az ihlette\, hogy a vidám\, elfogadó kis közösség tagjai a legkülönbözőbb háttérrel érkeztek (grafikustól az óvónőig\, egyetemistától a hivatalnokig)\, a zene szeretete és a közös éneklés öröme az abszolút közös pont.
URL:https://www.adventobudan.hu/esemeny/vilagzenei-tarka-korus/
LOCATION:Fő tér
CATEGORIES:Advent Óbudán 2025
ATTACH;FMTTYPE=image/jpeg:https://www.adventobudan.hu/wp-content/uploads/2025/11/Vilagzenei-Tarka-Korus.jpg
GEO:47.5416808;19.0450078
END:VEVENT
BEGIN:VEVENT
DTSTART;TZID=Europe/Budapest:20251213T110000
DTEND;TZID=Europe/Budapest:20251213T110000
DTSTAMP:20260425T184735
CREATED:20251210T161225Z
LAST-MODIFIED:20251210T162219Z
UID:5463-1765623600-1765623600@www.adventobudan.hu
SUMMARY:Bognár Szilvia: Adventi TITOKTOK -  interaktív családi koncert
DESCRIPTION:Dalok\, versek\, mondókák\, szép muzsika\, gyertyaillat\, harangszó… és egy varázslatos égszínkék kendő\, egy igazi Titoktok! Weöres Sándor\, Nemes Nagy Ágnes\, Kányádi Sándor megzenésített sorai népi dallamokkal karöltve vezetnek bennünket a titkos úton\, Moldovától egy sikátorban rejlő ugróiskoláig. Ahogy épp a kedvünk tartja\, ahogy épp a forgandó szerencse hozza\, de mindenképpen alkalmat kínálva a közös dalolásra\, játékra és persze a karácsony előtti elcsendesedésre\, várakozásra\, örömre is. \nKözreműködik: \nBognár Szilvia – ének \nFödő Sándor – ütőhangszerek\, harmonika \nBede Péter – szaxofon \nCsókás Zsolt – gitár
URL:https://www.adventobudan.hu/esemeny/bognar-szilvia-adventi-titoktok-interaktiv-csaladi-koncert/
LOCATION:Fő tér
CATEGORIES:Advent Óbudán 2025
ATTACH;FMTTYPE=image/jpeg:https://www.adventobudan.hu/wp-content/uploads/2025/12/Bognar-Szilvia.jpg
GEO:47.5416808;19.0450078
END:VEVENT
BEGIN:VEVENT
DTSTART;TZID=Europe/Budapest:20251213T110000
DTEND;TZID=Europe/Budapest:20251213T110000
DTSTAMP:20260425T184735
CREATED:20251029T135719Z
LAST-MODIFIED:20251210T161405Z
UID:4654-1765623600-1765623600@www.adventobudan.hu
SUMMARY:MŰSORVÁLTOZÁS! Bíró Eszter adventi gyerekműsora HELYETT Bognár Szilvia interaktív családi koncertje
DESCRIPTION:!!!MŰSORVÁLTOZÁS!!!\nBíró Eszter betegsége miatt Bognár Szilvia „Adventi TITOKTOK” című interaktív családi koncertjét tekinthetik meg december 13-án 11.00 órakor \n  \nBíró Eszter ünnepi dalai egy képzeletbeli utazásra invitálják a család minden tagját. Az énekesnő arra buzdítja a kicsiket és nagyokat\, hogy merjék felfedezni a világot\, ismerkedjenek meg más kultúrákkal\, és találják meg a mindannyiunkban rejlő szabadság érzését. \nKözreműködik: \nBíró Eszter – ének \nFödő Sándor – ütőhangszerek\, harmonika\, vokál \nCsókás Zsolt – gitár\, vokál \n 
URL:https://www.adventobudan.hu/esemeny/biro-eszter-adventi-gyerekmusora/
LOCATION:Fő tér
CATEGORIES:Advent Óbudán 2025
ATTACH;FMTTYPE=image/png:https://www.adventobudan.hu/wp-content/uploads/2025/10/Advent2024_eventcover_Biro-Eszter.png
GEO:47.5416808;19.0450078
END:VEVENT
BEGIN:VEVENT
DTSTART;TZID=Europe/Budapest:20251212T170000
DTEND;TZID=Europe/Budapest:20251212T213000
DTSTAMP:20260425T184735
CREATED:20251106T084658Z
LAST-MODIFIED:20251112T103727Z
UID:5138-1765558800-1765575000@www.adventobudan.hu
SUMMARY:Arató-jégdiszkó
DESCRIPTION:A fiatalokat és az örök fiatalokat három péntek este is fergeteges Arató Jégdiszkó várja. Figyelem\, készüljenek a kedvenc számaikkal\, az Arató DJ teljesíti a kívánságokat!
URL:https://www.adventobudan.hu/esemeny/arato-jegdiszko/2025-12-12/
LOCATION:Fő tér
ATTACH;FMTTYPE=image/jpeg:https://www.adventobudan.hu/wp-content/uploads/2025/11/jegdiszko-4.jpg
GEO:47.5416808;19.0450078
END:VEVENT
BEGIN:VEVENT
DTSTART;TZID=Europe/Budapest:20251207T182000
DTEND;TZID=Europe/Budapest:20251207T182000
DTSTAMP:20260425T184735
CREATED:20251029T135932Z
LAST-MODIFIED:20251029T145354Z
UID:4652-1765131600-1765131600@www.adventobudan.hu
SUMMARY:Szinetár Dóra
DESCRIPTION:
URL:https://www.adventobudan.hu/esemeny/szinetar-dora/
LOCATION:Fő tér
CATEGORIES:Advent Óbudán 2025
ATTACH;FMTTYPE=image/png:https://www.adventobudan.hu/wp-content/uploads/2025/10/Advent2024_eventcover_Szinetar-Dora.png
GEO:47.5416808;19.0450078
END:VEVENT
BEGIN:VEVENT
DTSTART;TZID=Europe/Budapest:20251207T173000
DTEND;TZID=Europe/Budapest:20251207T173000
DTSTAMP:20260425T184735
CREATED:20251029T140153Z
LAST-MODIFIED:20251119T090859Z
UID:4649-1765128600-1765128600@www.adventobudan.hu
SUMMARY:Gyertyagyújtás
DESCRIPTION:
URL:https://www.adventobudan.hu/esemeny/gyertyagyujtas-3/
LOCATION:Fő tér
CATEGORIES:Advent Óbudán 2025
ATTACH;FMTTYPE=image/jpeg:https://www.adventobudan.hu/wp-content/uploads/2025/10/second-advent-3001631_1920.jpg
GEO:47.5416808;19.0450078
END:VEVENT
BEGIN:VEVENT
DTSTART;TZID=Europe/Budapest:20251207T170000
DTEND;TZID=Europe/Budapest:20251207T170000
DTSTAMP:20260425T184735
CREATED:20251029T140628Z
LAST-MODIFIED:20251029T145451Z
UID:4647-1765126800-1765126800@www.adventobudan.hu
SUMMARY:Tűzzsonglőrök
DESCRIPTION:
URL:https://www.adventobudan.hu/esemeny/tuzzsonglorok-3/
LOCATION:Fő tér
CATEGORIES:Advent Óbudán 2025
ATTACH;FMTTYPE=image/png:https://www.adventobudan.hu/wp-content/uploads/2025/10/Advent2024_eventcover_tuzzsonglor.png
GEO:47.5416808;19.0450078
END:VEVENT
BEGIN:VEVENT
DTSTART;TZID=Europe/Budapest:20251207T160000
DTEND;TZID=Europe/Budapest:20251207T160000
DTSTAMP:20260425T184735
CREATED:20251029T141500Z
LAST-MODIFIED:20251202T141404Z
UID:4645-1765123200-1765123200@www.adventobudan.hu
SUMMARY:Karácsony James és Bérces Viktor
DESCRIPTION:Ikonikus dalok Karácsony János saját szerzeményeiből és LGT dalokból az ünnep fényeiben. Zongorán közreműködik dr. Bérces Viktor.
URL:https://www.adventobudan.hu/esemeny/karacsony-james-es-dr-berces-viktor/
LOCATION:Fő tér
CATEGORIES:Advent Óbudán 2025
ATTACH;FMTTYPE=image/png:https://www.adventobudan.hu/wp-content/uploads/2025/10/Advent2024_eventcover_Karacsony-James.png
GEO:47.5416808;19.0450078
END:VEVENT
BEGIN:VEVENT
DTSTART;TZID=Europe/Budapest:20251207T110000
DTEND;TZID=Europe/Budapest:20251207T110000
DTSTAMP:20260425T184735
CREATED:20251029T145604Z
LAST-MODIFIED:20251029T145604Z
UID:4641-1765105200-1765105200@www.adventobudan.hu
SUMMARY:Kámfor zenés bábszínház
DESCRIPTION:A nézők a Sárkány és az Ördög című népmesés marionett előadással ismerkedhetnek meg.  \nMesélő:\nHorváth Szervác Sándor \nZenészek:\nLengyel Levente és Kasó Máté (Gitár\, Zongora)
URL:https://www.adventobudan.hu/esemeny/kamfor-zenes-babszinhaz-2/
LOCATION:Fő tér
CATEGORIES:Advent Óbudán 2025
ATTACH;FMTTYPE=image/png:https://www.adventobudan.hu/wp-content/uploads/2025/10/Advent2024_eventcover_Kamfor-babszinhaz.png
GEO:47.5416808;19.0450078
END:VEVENT
BEGIN:VEVENT
DTSTART;TZID=Europe/Budapest:20251206T182000
DTEND;TZID=Europe/Budapest:20251206T182000
DTSTAMP:20260425T184735
CREATED:20251029T145854Z
LAST-MODIFIED:20251029T145854Z
UID:4639-1765045200-1765045200@www.adventobudan.hu
SUMMARY:Feke Pál
DESCRIPTION:
URL:https://www.adventobudan.hu/esemeny/feke-pal/
LOCATION:Fő tér
CATEGORIES:Advent Óbudán 2025
ATTACH;FMTTYPE=image/png:https://www.adventobudan.hu/wp-content/uploads/2025/10/Advent2024_eventcover_Feke-Pal.png
GEO:47.5416808;19.0450078
END:VEVENT
BEGIN:VEVENT
DTSTART;TZID=Europe/Budapest:20251206T160000
DTEND;TZID=Europe/Budapest:20251206T160000
DTSTAMP:20260425T184735
CREATED:20251029T150030Z
LAST-MODIFIED:20251029T150030Z
UID:4633-1765036800-1765036800@www.adventobudan.hu
SUMMARY:Nóvé Soma és Ifj. Csoóri Sándor
DESCRIPTION:Nóvé Soma 2012-ben kezdte zenei pályafutását a Middlemist Red zenekarban. Azóta számtalan zenei projektben élvezhette a közönség különleges előadásmódját. Nevéhez olyan zenekarok  fűződnek\, mint a MORDÁI\, a The Night Of The Vampire és a Samurai Drive. Ifj. Csoóri Sándor „Sündi” a Buda Folk Band egykori és az Ötödik Évszak jelenlegi társvezetője meghatározó táncszínházi előadások egyre keresettebb zeneszerzője. \nNóvé Soma: ének\, gitár\nIfj. Csoóri Sándor: ének\, brácsa\, tambura \n  \nFotó: Wanda Martin
URL:https://www.adventobudan.hu/esemeny/nove-soma-es-ifj-csoori-sandor/
LOCATION:Fő tér
CATEGORIES:Advent Óbudán 2025
ATTACH;FMTTYPE=image/png:https://www.adventobudan.hu/wp-content/uploads/2025/10/Advent2024_eventcover_Nove-Soma-ifj-Csoori-Sandor.png
GEO:47.5416808;19.0450078
END:VEVENT
BEGIN:VEVENT
DTSTART;TZID=Europe/Budapest:20251206T140000
DTEND;TZID=Europe/Budapest:20251206T160000
DTSTAMP:20260425T184735
CREATED:20251029T150239Z
LAST-MODIFIED:20251030T132026Z
UID:4714-1765029600-1765036800@www.adventobudan.hu
SUMMARY:Koris Mikulás
DESCRIPTION:
URL:https://www.adventobudan.hu/esemeny/koris-mikulas/2025-12-06/2/
LOCATION:Fő tér
CATEGORIES:Advent Óbudán 2025
ATTACH;FMTTYPE=image/png:https://www.adventobudan.hu/wp-content/uploads/2025/10/Advent2024_eventcover_koris-Mikulas.png
GEO:47.5416808;19.0450078
END:VEVENT
END:VCALENDAR